BEGIN:VCALENDAR
VERSION:2.0
PRODID:-//Montana Federation of Public Employees - ECPv6.12.0//NONSGML v1.0//EN
CALSCALE:GREGORIAN
METHOD:PUBLISH
X-WR-CALNAME:Montana Federation of Public Employees
X-ORIGINAL-URL:https://www.mfpe.org
X-WR-CALDESC:Events for Montana Federation of Public Employees
REFRESH-INTERVAL;VALUE=DURATION:PT1H
X-Robots-Tag:noindex
X-PUBLISHED-TTL:PT1H
BEGIN:VTIMEZONE
TZID:America/Denver
BEGIN:DAYLIGHT
TZOFFSETFROM:-0700
TZOFFSETTO:-0600
TZNAME:MDT
DTSTART:20260308T090000
END:DAYLIGHT
BEGIN:STANDARD
TZOFFSETFROM:-0600
TZOFFSETTO:-0700
TZNAME:MST
DTSTART:20261101T080000
END:STANDARD
END:VTIMEZONE
BEGIN:VEVENT
DTSTART;VALUE=DATE:20260410
DTEND;VALUE=DATE:20260411
DTSTAMP:20260424T193352
CREATED:20250825T173559Z
LAST-MODIFIED:20250825T173559Z
UID:28272-1775779200-1775865599@www.mfpe.org
SUMMARY:MFPE Board of Directors Meeting
DESCRIPTION:
URL:https://www.mfpe.org/event/mfpe-board-of-directors-meeting-2/
LOCATION:Helena
ORGANIZER;CN="Amanda Curtis":MAILTO:acurtis@mfpe.org
END:VEVENT
BEGIN:VEVENT
DTSTART;VALUE=DATE:20260410
DTEND;VALUE=DATE:20260412
DTSTAMP:20260424T193352
CREATED:20250825T173642Z
LAST-MODIFIED:20250825T173642Z
UID:28274-1775779200-1775951999@www.mfpe.org
SUMMARY:MFPE Annual Conference
DESCRIPTION:
URL:https://www.mfpe.org/event/mfpe-annual-conference/
LOCATION:Helena
ORGANIZER;CN="Amanda Curtis":MAILTO:acurtis@mfpe.org
END:VEVENT
END:VCALENDAR