BEGIN:VCALENDAR
VERSION:2.0
PRODID:-//Montana Federation of Public Employees - ECPv6.12.0//NONSGML v1.0//EN
CALSCALE:GREGORIAN
METHOD:PUBLISH
X-WR-CALNAME:Montana Federation of Public Employees
X-ORIGINAL-URL:https://www.mfpe.org
X-WR-CALDESC:Events for Montana Federation of Public Employees
REFRESH-INTERVAL;VALUE=DURATION:PT1H
X-Robots-Tag:noindex
X-PUBLISHED-TTL:PT1H
BEGIN:VTIMEZONE
TZID:America/Denver
BEGIN:DAYLIGHT
TZOFFSETFROM:-0700
TZOFFSETTO:-0600
TZNAME:MDT
DTSTART:20260308T090000
END:DAYLIGHT
BEGIN:STANDARD
TZOFFSETFROM:-0600
TZOFFSETTO:-0700
TZNAME:MST
DTSTART:20261101T080000
END:STANDARD
END:VTIMEZONE
BEGIN:VEVENT
DTSTART;TZID=America/Denver:20260505T173000
DTEND;TZID=America/Denver:20260505T183000
DTSTAMP:20260423T113654
CREATED:20260204T212803Z
LAST-MODIFIED:20260204T212803Z
UID:28868-1778002200-1778005800@www.mfpe.org
SUMMARY:Organizing Training: Recruiting Members Before\, During\, & After New Hire Orientations
DESCRIPTION:Constant organizing and membership recruitment is needed to maintain our power at the bargaining table\, our rights at work\, and our ability to have a say in our professions. The best time to ask a co-worker to join our union is right when they’re hired. Join this trying to dig into the contact information\, new hire orientation\, and materials you have access to nail an organizing conversation.
URL:https://www.mfpe.org/event/organizing-training-recruiting-members-before-during-after-new-hire-orientations/
END:VEVENT
END:VCALENDAR