BEGIN:VCALENDAR
VERSION:2.0
PRODID:-//Montana Federation of Public Employees - ECPv6.12.0//NONSGML v1.0//EN
CALSCALE:GREGORIAN
METHOD:PUBLISH
X-ORIGINAL-URL:https://www.mfpe.org
X-WR-CALDESC:Events for Montana Federation of Public Employees
REFRESH-INTERVAL;VALUE=DURATION:PT1H
X-Robots-Tag:noindex
X-PUBLISHED-TTL:PT1H
BEGIN:VTIMEZONE
TZID:America/Denver
BEGIN:DAYLIGHT
TZOFFSETFROM:-0700
TZOFFSETTO:-0600
TZNAME:MDT
DTSTART:20260308T090000
END:DAYLIGHT
BEGIN:STANDARD
TZOFFSETFROM:-0600
TZOFFSETTO:-0700
TZNAME:MST
DTSTART:20261101T080000
END:STANDARD
END:VTIMEZONE
BEGIN:VEVENT
DTSTART;TZID=America/Denver:20260303T173000
DTEND;TZID=America/Denver:20260303T183000
DTSTAMP:20260419T222146
CREATED:20260204T211649Z
LAST-MODIFIED:20260204T211649Z
UID:28852-1772559000-1772562600@www.mfpe.org
SUMMARY:Spring Meeting District 9
DESCRIPTION:
URL:https://www.mfpe.org/event/spring-meeting-district-9/
END:VEVENT
BEGIN:VEVENT
DTSTART;TZID=America/Denver:20260305T170000
DTEND;TZID=America/Denver:20260305T180000
DTSTAMP:20260419T222146
CREATED:20260204T211342Z
LAST-MODIFIED:20260204T211342Z
UID:28844-1772730000-1772733600@www.mfpe.org
SUMMARY:MFPE Book Club - The Anxious Generation
DESCRIPTION:
URL:https://www.mfpe.org/event/mfpe-book-club-the-anxious-generation-2/
ORGANIZER;CN="Kim Popham":MAILTO:kpopham@mfpe.org
END:VEVENT
BEGIN:VEVENT
DTSTART;TZID=America/Denver:20260305T173000
DTEND;TZID=America/Denver:20260305T183000
DTSTAMP:20260419T222146
CREATED:20250825T173433Z
LAST-MODIFIED:20250825T173433Z
UID:28268-1772731800-1772735400@www.mfpe.org
SUMMARY:1st Thursday Presidents Meeting
DESCRIPTION:
URL:https://www.mfpe.org/event/1st-thursday-presidents-meeting-7/
LOCATION:virtual
ORGANIZER;CN="Amanda Curtis":MAILTO:acurtis@mfpe.org
END:VEVENT
BEGIN:VEVENT
DTSTART;TZID=America/Denver:20260305T173000
DTEND;TZID=America/Denver:20260305T183000
DTSTAMP:20260419T222146
CREATED:20260204T212002Z
LAST-MODIFIED:20260220T223544Z
UID:28854-1772731800-1772735400@www.mfpe.org
SUMMARY:State Pay Plan Bargaining Training: Negotiating A Fair Package With the Governor This Year
DESCRIPTION:Between legislative sessions\, MFPE members bargain the next two year Pay Plan with the governor. As we gear up to bargain this year\, every MFPE member in state government and higher education has a role to play in winning a fair package. Join this training to learn how pre-budget negotiations work and how we organize\, apply pressure\, and win the raises and benefits we deserve at the bargaining table.
URL:https://www.mfpe.org/event/state-pay-plan-bargaining-training-negotiating-a-fair-package-with-the-governor-this-year/
END:VEVENT
BEGIN:VEVENT
DTSTART;TZID=America/Denver:20260311T173000
DTEND;TZID=America/Denver:20260311T183000
DTSTAMP:20260419T222146
CREATED:20260204T212136Z
LAST-MODIFIED:20260204T212136Z
UID:28856-1773250200-1773253800@www.mfpe.org
SUMMARY:Spring Meeting District 1
DESCRIPTION:
URL:https://www.mfpe.org/event/spring-meeting-district-1/
END:VEVENT
BEGIN:VEVENT
DTSTART;TZID=America/Denver:20260312T170000
DTEND;TZID=America/Denver:20260312T180000
DTSTAMP:20260419T222146
CREATED:20260204T211446Z
LAST-MODIFIED:20260204T211446Z
UID:28846-1773334800-1773338400@www.mfpe.org
SUMMARY:MFPE Book Club - The Anxious Generation
DESCRIPTION:
URL:https://www.mfpe.org/event/mfpe-book-club-the-anxious-generation-3/
ORGANIZER;CN="Kim Popham":MAILTO:kpopham@mfpe.org
END:VEVENT
BEGIN:VEVENT
DTSTART;TZID=America/Denver:20260312T170000
DTEND;TZID=America/Denver:20260312T180000
DTSTAMP:20260419T222147
CREATED:20260204T212220Z
LAST-MODIFIED:20260204T212220Z
UID:28858-1773334800-1773338400@www.mfpe.org
SUMMARY:Spring Meeting District 6
DESCRIPTION:
URL:https://www.mfpe.org/event/spring-meeting-district-6/
END:VEVENT
BEGIN:VEVENT
DTSTART;TZID=America/Denver:20260316T170000
DTEND;TZID=America/Denver:20260316T180000
DTSTAMP:20260419T222147
CREATED:20260204T212332Z
LAST-MODIFIED:20260204T212332Z
UID:28860-1773680400-1773684000@www.mfpe.org
SUMMARY:Spring Meeting District 5
DESCRIPTION:
URL:https://www.mfpe.org/event/spring-meeting-district-5/
END:VEVENT
BEGIN:VEVENT
DTSTART;TZID=America/Denver:20260318T173000
DTEND;TZID=America/Denver:20260318T183000
DTSTAMP:20260419T222147
CREATED:20260204T212431Z
LAST-MODIFIED:20260204T212431Z
UID:28862-1773855000-1773858600@www.mfpe.org
SUMMARY:Spring Meeting District 7
DESCRIPTION:
URL:https://www.mfpe.org/event/spring-meeting-district-7/
END:VEVENT
BEGIN:VEVENT
DTSTART;TZID=America/Denver:20260319T170000
DTEND;TZID=America/Denver:20260319T180000
DTSTAMP:20260419T222147
CREATED:20260204T211519Z
LAST-MODIFIED:20260204T211519Z
UID:28848-1773939600-1773943200@www.mfpe.org
SUMMARY:MFPE Book Club - The Anxious Generation
DESCRIPTION:
URL:https://www.mfpe.org/event/mfpe-book-club-the-anxious-generation-4/
ORGANIZER;CN="Kim Popham":MAILTO:kpopham@mfpe.org
END:VEVENT
BEGIN:VEVENT
DTSTART;TZID=America/Denver:20260323T120000
DTEND;TZID=America/Denver:20260323T130000
DTSTAMP:20260419T222147
CREATED:20260204T212525Z
LAST-MODIFIED:20260204T212525Z
UID:28864-1774267200-1774270800@www.mfpe.org
SUMMARY:Spring Meeting District 10
DESCRIPTION:
URL:https://www.mfpe.org/event/spring-meeting-district-10/
END:VEVENT
BEGIN:VEVENT
DTSTART;TZID=America/Denver:20260326T170000
DTEND;TZID=America/Denver:20260326T180000
DTSTAMP:20260419T222147
CREATED:20260204T211549Z
LAST-MODIFIED:20260204T211549Z
UID:28850-1774544400-1774548000@www.mfpe.org
SUMMARY:MFPE Book Club - The Anxious Generation
DESCRIPTION:
URL:https://www.mfpe.org/event/mfpe-book-club-the-anxious-generation-5/
ORGANIZER;CN="Kim Popham":MAILTO:kpopham@mfpe.org
END:VEVENT
BEGIN:VEVENT
DTSTART;TZID=America/Denver:20260330T120000
DTEND;TZID=America/Denver:20260330T130000
DTSTAMP:20260419T222147
CREATED:20250825T173511Z
LAST-MODIFIED:20250825T173511Z
UID:28270-1774872000-1774875600@www.mfpe.org
SUMMARY:MFPE-R Meeting
DESCRIPTION:
URL:https://www.mfpe.org/event/mfpe-r-meeting-10/
LOCATION:virtual
END:VEVENT
END:VCALENDAR