BEGIN:VCALENDAR
VERSION:2.0
PRODID:-//Montana Federation of Public Employees - ECPv6.12.0//NONSGML v1.0//EN
CALSCALE:GREGORIAN
METHOD:PUBLISH
X-ORIGINAL-URL:https://www.mfpe.org
X-WR-CALDESC:Events for Montana Federation of Public Employees
REFRESH-INTERVAL;VALUE=DURATION:PT1H
X-Robots-Tag:noindex
X-PUBLISHED-TTL:PT1H
BEGIN:VTIMEZONE
TZID:America/Denver
BEGIN:DAYLIGHT
TZOFFSETFROM:-0700
TZOFFSETTO:-0600
TZNAME:MDT
DTSTART:20260308T090000
END:DAYLIGHT
BEGIN:STANDARD
TZOFFSETFROM:-0600
TZOFFSETTO:-0700
TZNAME:MST
DTSTART:20261101T080000
END:STANDARD
END:VTIMEZONE
BEGIN:VEVENT
DTSTART;TZID=America/Denver:20260602T173000
DTEND;TZID=America/Denver:20260602T183000
DTSTAMP:20260420T014121
CREATED:20260204T212902Z
LAST-MODIFIED:20260204T212902Z
UID:28870-1780421400-1780425000@www.mfpe.org
SUMMARY:Back to School Training: Plan Now\, Rest Easier This Summer
DESCRIPTION:Building on May’s Organizing Training\, this Back to School Training is geared toward K-12 local unions getting ready to welcome new educators and staff this August. Planning out how you plan to ask them to join your union now will make back to school easier on you and improve your new member recruitment.
URL:https://www.mfpe.org/event/back-to-school-training-plan-now-rest-easier-this-summer/
ORGANIZER;CN="Morgan Smith":MAILTO:msmith@mfpe.org
END:VEVENT
END:VCALENDAR