BEGIN:VCALENDAR
VERSION:2.0
PRODID:-//Montana Federation of Public Employees - ECPv6.12.0//NONSGML v1.0//EN
CALSCALE:GREGORIAN
METHOD:PUBLISH
X-WR-CALNAME:Montana Federation of Public Employees
X-ORIGINAL-URL:https://www.mfpe.org
X-WR-CALDESC:Events for Montana Federation of Public Employees
REFRESH-INTERVAL;VALUE=DURATION:PT1H
X-Robots-Tag:noindex
X-PUBLISHED-TTL:PT1H
BEGIN:VTIMEZONE
TZID:America/Denver
BEGIN:DAYLIGHT
TZOFFSETFROM:-0700
TZOFFSETTO:-0600
TZNAME:MDT
DTSTART:20260308T090000
END:DAYLIGHT
BEGIN:STANDARD
TZOFFSETFROM:-0600
TZOFFSETTO:-0700
TZNAME:MST
DTSTART:20261101T080000
END:STANDARD
END:VTIMEZONE
BEGIN:VEVENT
DTSTART;TZID=America/Denver:20260707T173000
DTEND;TZID=America/Denver:20260707T183000
DTSTAMP:20260420T003817
CREATED:20260204T213037Z
LAST-MODIFIED:20260204T213037Z
UID:28872-1783445400-1783449000@www.mfpe.org
SUMMARY:Connect with Your MFPE Officer Team & Learn About the 2026 Primary Results
DESCRIPTION:Less of a training and more of a mid-summer check-in\, join for a conversation with your elected MFPE Officer Team. Learn about what the primary election results mean for the general election and 2027 Legislature.
URL:https://www.mfpe.org/event/connect-with-your-mfpe-officer-team-learn-about-the-2026-primary-results/
ORGANIZER;CN="Hunter Losing":MAILTO:hlosing@mfpe.org
END:VEVENT
BEGIN:VEVENT
DTSTART;TZID=America/Denver:20260714T080000
DTEND;TZID=America/Denver:20260715T170000
DTSTAMP:20260420T003817
CREATED:20260204T214418Z
LAST-MODIFIED:20260204T214418Z
UID:28887-1784016000-1784134800@www.mfpe.org
SUMMARY:TLI 2026 - 2027 Kick-off
DESCRIPTION:
URL:https://www.mfpe.org/event/tli-2026-2027-kick-off/
END:VEVENT
END:VCALENDAR