BEGIN:VCALENDAR
VERSION:2.0
PRODID:-//Montana Federation of Public Employees - ECPv6.12.0//NONSGML v1.0//EN
CALSCALE:GREGORIAN
METHOD:PUBLISH
X-ORIGINAL-URL:https://www.mfpe.org
X-WR-CALDESC:Events for Montana Federation of Public Employees
REFRESH-INTERVAL;VALUE=DURATION:PT1H
X-Robots-Tag:noindex
X-PUBLISHED-TTL:PT1H
BEGIN:VTIMEZONE
TZID:America/Denver
BEGIN:DAYLIGHT
TZOFFSETFROM:-0700
TZOFFSETTO:-0600
TZNAME:MDT
DTSTART:20260308T090000
END:DAYLIGHT
BEGIN:STANDARD
TZOFFSETFROM:-0600
TZOFFSETTO:-0700
TZNAME:MST
DTSTART:20261101T080000
END:STANDARD
END:VTIMEZONE
BEGIN:VEVENT
DTSTART;TZID=America/Denver:20260804T080000
DTEND;TZID=America/Denver:20260804T170000
DTSTAMP:20260420T014133
CREATED:20260204T213150Z
LAST-MODIFIED:20260204T213150Z
UID:28874-1785830400-1785862800@www.mfpe.org
SUMMARY:Communications Training for Organizing & Growing Your Local Union
DESCRIPTION:The world’s broken: We’re overly inundated with texts\, emails\, mailers\, and social media algorithms clamoring for our attention. Misinformation about what it means to be a union member is on the rise. Thankfully\, we’re in a position to fight through the fog and build truthful narratives that can protect our professions and the families we work for. Join this training to jump into this work!
URL:https://www.mfpe.org/event/communications-training-for-organizing-growing-your-local-union/
ORGANIZER;CN="Morgan Smith":MAILTO:msmith@mfpe.org
END:VEVENT
BEGIN:VEVENT
DTSTART;TZID=America/Denver:20260804T080000
DTEND;TZID=America/Denver:20260806T170000
DTSTAMP:20260420T014133
CREATED:20260204T214548Z
LAST-MODIFIED:20260204T214548Z
UID:28889-1785830400-1786035600@www.mfpe.org
SUMMARY:NBCT JumpStart
DESCRIPTION:
URL:https://www.mfpe.org/event/nbct-jumpstart/
END:VEVENT
END:VCALENDAR