BEGIN:VCALENDAR
VERSION:2.0
PRODID:-//Montana Federation of Public Employees - ECPv6.12.0//NONSGML v1.0//EN
CALSCALE:GREGORIAN
METHOD:PUBLISH
X-WR-CALNAME:Montana Federation of Public Employees
X-ORIGINAL-URL:https://www.mfpe.org
X-WR-CALDESC:Events for Montana Federation of Public Employees
REFRESH-INTERVAL;VALUE=DURATION:PT1H
X-Robots-Tag:noindex
X-PUBLISHED-TTL:PT1H
BEGIN:VTIMEZONE
TZID:America/Denver
BEGIN:DAYLIGHT
TZOFFSETFROM:-0700
TZOFFSETTO:-0600
TZNAME:MDT
DTSTART:20260308T090000
END:DAYLIGHT
BEGIN:STANDARD
TZOFFSETFROM:-0600
TZOFFSETTO:-0700
TZNAME:MST
DTSTART:20261101T080000
END:STANDARD
END:VTIMEZONE
BEGIN:VEVENT
DTSTART;TZID=America/Denver:20261006T173000
DTEND;TZID=America/Denver:20261006T183000
DTSTAMP:20260422T043614
CREATED:20260204T213409Z
LAST-MODIFIED:20260204T213409Z
UID:28879-1791307800-1791311400@www.mfpe.org
SUMMARY:Know Your Rights In the Workplace Training
DESCRIPTION:MPFE union members have fought for\, won\, and defended our rights for generations. Learn what your governance rights\, grievance rights\, Weingarten rights\, and due process rights are in this training. And learn how we must continue exercising and defending them.
URL:https://www.mfpe.org/event/know-your-rights-in-the-workplace-training/
END:VEVENT
BEGIN:VEVENT
DTSTART;TZID=America/Denver:20261015T080000
DTEND;TZID=America/Denver:20261016T170000
DTSTAMP:20260422T043614
CREATED:20260204T214208Z
LAST-MODIFIED:20260204T214208Z
UID:28885-1792051200-1792170000@www.mfpe.org
SUMMARY:Educator Conference
DESCRIPTION:
URL:https://www.mfpe.org/event/educator-conference/
END:VEVENT
END:VCALENDAR