BEGIN:VCALENDAR
VERSION:2.0
PRODID:-//Montana Federation of Public Employees - ECPv6.12.0//NONSGML v1.0//EN
CALSCALE:GREGORIAN
METHOD:PUBLISH
X-ORIGINAL-URL:https://www.mfpe.org
X-WR-CALDESC:Events for Montana Federation of Public Employees
REFRESH-INTERVAL;VALUE=DURATION:PT1H
X-Robots-Tag:noindex
X-PUBLISHED-TTL:PT1H
BEGIN:VTIMEZONE
TZID:America/Denver
BEGIN:DAYLIGHT
TZOFFSETFROM:-0700
TZOFFSETTO:-0600
TZNAME:MDT
DTSTART:20260308T090000
END:DAYLIGHT
BEGIN:STANDARD
TZOFFSETFROM:-0600
TZOFFSETTO:-0700
TZNAME:MST
DTSTART:20261101T080000
END:STANDARD
END:VTIMEZONE
BEGIN:VEVENT
DTSTART;TZID=America/Denver:20261201T173000
DTEND;TZID=America/Denver:20261201T183000
DTSTAMP:20260420T210512
CREATED:20260204T213623Z
LAST-MODIFIED:20260204T214013Z
UID:28883-1796146200-1796149800@www.mfpe.org
SUMMARY:Around here\, we join the union! An Introduction to Member Organizing
DESCRIPTION:Strong unions don’t just happen—we build them together. This training introduces the basics of member organizing and shows how welcoming\, engaging\, and activating coworkers grows our power. Around here\, we join the union—and we make it stronger.
URL:https://www.mfpe.org/event/around-here-we-join-the-union-an-introduction-to-member-organizing/
END:VEVENT
END:VCALENDAR